BEGIN:VCALENDAR
VERSION:2.0
PRODID:-//Tukios.com/
BEGIN:VEVENT
UID:17fc0ed3-91d6-4304-b95a-b07922928209@www.sykesfuneralhome.com
DTSTAMP:20260420T082446Z
DTSTART:20260418T200000Z
DTEND:20260418T210000Z
SUMMARY:Funeral Service
DESCRIPTION:
URL:https://www.sykesfuneralhome.com/obituaries/cw4-david-elliott-army-ret
LOCATION:  Marion Rd  Cunningham TN 37052
GEO:36.3574864;-87.4321083
END:VEVENT
END:VCALENDAR