BEGIN:VCALENDAR
VERSION:2.0
PRODID:-//Tukios.com/
BEGIN:VEVENT
UID:3858aee2-7f58-43d1-9676-3bb839492463@www.sykesfuneralhome.com
DTSTAMP:20260421T000340Z
DTSTART:20260427T170000Z
DTEND:20260427T180000Z
SUMMARY:Celebration of Life
DESCRIPTION:
URL:https://www.sykesfuneralhome.com/obituaries/randy-kirkham
LOCATION:Sykes Funeral Home 424 Franklin St  Clarksville TN 37040
GEO:36.5281046;-87.3552366
END:VEVENT
END:VCALENDAR