BEGIN:VCALENDAR
VERSION:2.0
PRODID:-//Tukios.com/
BEGIN:VEVENT
UID:ba7fa4ed-f246-47c0-ace5-33934b5570e0@www.sykesfuneralhome.com
DTSTAMP:20260421T000347Z
DTSTART:20260427T160000Z
DTEND:20260427T170000Z
SUMMARY:Visitation
DESCRIPTION:
URL:https://www.sykesfuneralhome.com/obituaries/randy-kirkham
LOCATION:Sykes Funeral Home 424 Franklin St  Clarksville TN 37040
GEO:36.5281046;-87.3552366
END:VEVENT
END:VCALENDAR