BEGIN:VCALENDAR
VERSION:2.0
PRODID:-//Tukios.com/
BEGIN:VEVENT
UID:0837674e-544a-4c84-8c47-657684e164bf@www.sykesfuneralhome.com
DTSTAMP:20260421T012910Z
DTSTART:20260423T170000Z
DTEND:20260423T180000Z
SUMMARY:Celebration of Life
DESCRIPTION:
URL:https://www.sykesfuneralhome.com/obituaries/ssg-harold-thornton-army-ret
LOCATION:Sykes Funeral Home 424 Franklin St  Clarksville TN 37040
GEO:36.5281046;-87.3552366
END:VEVENT
END:VCALENDAR