BEGIN:VCALENDAR
VERSION:2.0
PRODID:-//Tukios.com/
BEGIN:VEVENT
UID:26023490-5825-43ae-8e05-5bb097aec2a6@www.sykesfuneralhome.com
DTSTAMP:20260421T013257Z
DTSTART:20260423T160000Z
DTEND:20260423T170000Z
SUMMARY:Visitation
DESCRIPTION:
URL:https://www.sykesfuneralhome.com/obituaries/ssg-harold-thornton-army-ret
LOCATION:Sykes Funeral Home 424 Franklin St  Clarksville TN 37040
GEO:36.5281046;-87.3552366
END:VEVENT
END:VCALENDAR